BEGIN:VCALENDAR
VERSION:2.0
PRODID:-//Bindlestiff Family Cirkus - ECPv6.15.17.1//NONSGML v1.0//EN
CALSCALE:GREGORIAN
METHOD:PUBLISH
X-ORIGINAL-URL:https://bindlestiff.org
X-WR-CALDESC:Events for Bindlestiff Family Cirkus
REFRESH-INTERVAL;VALUE=DURATION:PT1H
X-Robots-Tag:noindex
X-PUBLISHED-TTL:PT1H
BEGIN:VTIMEZONE
TZID:America/New_York
BEGIN:DAYLIGHT
TZOFFSETFROM:-0500
TZOFFSETTO:-0400
TZNAME:EDT
DTSTART:20230312T070000
END:DAYLIGHT
BEGIN:STANDARD
TZOFFSETFROM:-0400
TZOFFSETTO:-0500
TZNAME:EST
DTSTART:20231105T060000
END:STANDARD
BEGIN:DAYLIGHT
TZOFFSETFROM:-0500
TZOFFSETTO:-0400
TZNAME:EDT
DTSTART:20240310T070000
END:DAYLIGHT
BEGIN:STANDARD
TZOFFSETFROM:-0400
TZOFFSETTO:-0500
TZNAME:EST
DTSTART:20241103T060000
END:STANDARD
BEGIN:DAYLIGHT
TZOFFSETFROM:-0500
TZOFFSETTO:-0400
TZNAME:EDT
DTSTART:20250309T070000
END:DAYLIGHT
BEGIN:STANDARD
TZOFFSETFROM:-0400
TZOFFSETTO:-0500
TZNAME:EST
DTSTART:20251102T060000
END:STANDARD
END:VTIMEZONE
BEGIN:VEVENT
DTSTART;TZID=America/New_York:20240908T141500
DTEND;TZID=America/New_York:20240908T170000
DTSTAMP:20260419T152342
CREATED:20240826T022915Z
LAST-MODIFIED:20240826T022915Z
UID:3078-1725804900-1725814800@bindlestiff.org
SUMMARY:Riverside Parks Conservancy Summer on the Hudson: West Side County Fair
DESCRIPTION:Located on Pier I in Riverside Park at 70th Street\nParis the Hip Hop Juggler and Cate Great present dynamic\, comedic\, and thrilling circus variety shows. Free and fun for all ages!\nCate Great 2:15 pm\nParis the Hip Hop Juggler 4:15 pm\nRain Date Sunday September 15
URL:https://bindlestiff.org/event/riverside-parks-conservancy-summer-on-the-hudson-west-side-county-fair/
LOCATION:Pier 1\, Riverside Park at 70th Street\, New York\, NY\, United States
END:VEVENT
END:VCALENDAR