BEGIN:VCALENDAR
VERSION:2.0
PRODID:-//Bindlestiff Family Cirkus - ECPv6.15.17.1//NONSGML v1.0//EN
CALSCALE:GREGORIAN
METHOD:PUBLISH
X-ORIGINAL-URL:https://bindlestiff.org
X-WR-CALDESC:Events for Bindlestiff Family Cirkus
REFRESH-INTERVAL;VALUE=DURATION:PT1H
X-Robots-Tag:noindex
X-PUBLISHED-TTL:PT1H
BEGIN:VTIMEZONE
TZID:America/New_York
BEGIN:DAYLIGHT
TZOFFSETFROM:-0500
TZOFFSETTO:-0400
TZNAME:EDT
DTSTART:20230312T070000
END:DAYLIGHT
BEGIN:STANDARD
TZOFFSETFROM:-0400
TZOFFSETTO:-0500
TZNAME:EST
DTSTART:20231105T060000
END:STANDARD
BEGIN:DAYLIGHT
TZOFFSETFROM:-0500
TZOFFSETTO:-0400
TZNAME:EDT
DTSTART:20240310T070000
END:DAYLIGHT
BEGIN:STANDARD
TZOFFSETFROM:-0400
TZOFFSETTO:-0500
TZNAME:EST
DTSTART:20241103T060000
END:STANDARD
BEGIN:DAYLIGHT
TZOFFSETFROM:-0500
TZOFFSETTO:-0400
TZNAME:EDT
DTSTART:20250309T070000
END:DAYLIGHT
BEGIN:STANDARD
TZOFFSETFROM:-0400
TZOFFSETTO:-0500
TZNAME:EST
DTSTART:20251102T060000
END:STANDARD
END:VTIMEZONE
BEGIN:VEVENT
DTSTART;TZID=America/New_York:20241031T160000
DTEND;TZID=America/New_York:20241031T170000
DTSTAMP:20260419T122939
CREATED:20241014T191301Z
LAST-MODIFIED:20241014T191301Z
UID:3155-1730390400-1730394000@bindlestiff.org
SUMMARY:Follies
DESCRIPTION:
URL:https://bindlestiff.org/event/follies-15/
LOCATION:Beach 21st St. Plaza\, Beach 21st Street\, Queens\, United States
END:VEVENT
BEGIN:VEVENT
DTSTART;TZID=America/New_York:20241031T160000
DTEND;TZID=America/New_York:20241031T200000
DTSTAMP:20260419T122939
CREATED:20240919T021904Z
LAST-MODIFIED:20241014T191033Z
UID:3119-1730390400-1730404800@bindlestiff.org
SUMMARY:Follies
DESCRIPTION:
URL:https://bindlestiff.org/event/follies-17/
LOCATION:Pell & Doyers Open Street\, Doyers Street\, Pell Street to Bowery\, New York\, NY\, 10013\, United States
END:VEVENT
END:VCALENDAR