BEGIN:VCALENDAR
VERSION:2.0
PRODID:-//Bindlestiff Family Cirkus - ECPv6.15.17.1//NONSGML v1.0//EN
CALSCALE:GREGORIAN
METHOD:PUBLISH
X-WR-CALNAME:Bindlestiff Family Cirkus
X-ORIGINAL-URL:https://bindlestiff.org
X-WR-CALDESC:Events for Bindlestiff Family Cirkus
REFRESH-INTERVAL;VALUE=DURATION:PT1H
X-Robots-Tag:noindex
X-PUBLISHED-TTL:PT1H
BEGIN:VTIMEZONE
TZID:America/New_York
BEGIN:DAYLIGHT
TZOFFSETFROM:-0500
TZOFFSETTO:-0400
TZNAME:EDT
DTSTART:20250309T070000
END:DAYLIGHT
BEGIN:STANDARD
TZOFFSETFROM:-0400
TZOFFSETTO:-0500
TZNAME:EST
DTSTART:20251102T060000
END:STANDARD
BEGIN:DAYLIGHT
TZOFFSETFROM:-0500
TZOFFSETTO:-0400
TZNAME:EDT
DTSTART:20260308T070000
END:DAYLIGHT
BEGIN:STANDARD
TZOFFSETFROM:-0400
TZOFFSETTO:-0500
TZNAME:EST
DTSTART:20261101T060000
END:STANDARD
BEGIN:DAYLIGHT
TZOFFSETFROM:-0500
TZOFFSETTO:-0400
TZNAME:EDT
DTSTART:20270314T070000
END:DAYLIGHT
BEGIN:STANDARD
TZOFFSETFROM:-0400
TZOFFSETTO:-0500
TZNAME:EST
DTSTART:20271107T060000
END:STANDARD
END:VTIMEZONE
BEGIN:VEVENT
DTSTART;TZID=America/New_York:20260502T103000
DTEND;TZID=America/New_York:20260502T150000
DTSTAMP:20260419T091634
CREATED:20251224T161219Z
LAST-MODIFIED:20260415T152005Z
UID:3658-1777717800-1777734000@bindlestiff.org
SUMMARY:Bindlestiff Family Cirkus (Flatbed Follies)
DESCRIPTION:Bindlestiff Family Cirkus will present two 1.5-hour programs to include interactive engagements and circus arts performances in Wagner Park. The shows will be free and open to the public and appropriate for all ages. \nDate: Saturday\, May 2\, 2026 \nLocation: Wagner Park\, Battery Park City\, NYC \n**Performance 1**\nPre-show interactive activities: 10:30 AM\nShowtime: 11:00 AM\n\n\n \n**Performance 2**\nPre-show interactive activities: 1:30 PM\nShowtime: 2:00 PM
URL:https://bindlestiff.org/event/bindlestiff-family-cirkus-flatbed-follies/
LOCATION:Wagner Park\, 20 Battery Pl\, New York\, NY\, 10280\, United States
END:VEVENT
END:VCALENDAR