BEGIN:VCALENDAR
VERSION:2.0
PRODID:-//Bindlestiff Family Cirkus - ECPv6.15.17.1//NONSGML v1.0//EN
CALSCALE:GREGORIAN
METHOD:PUBLISH
X-ORIGINAL-URL:https://bindlestiff.org
X-WR-CALDESC:Events for Bindlestiff Family Cirkus
REFRESH-INTERVAL;VALUE=DURATION:PT1H
X-Robots-Tag:noindex
X-PUBLISHED-TTL:PT1H
BEGIN:VTIMEZONE
TZID:America/New_York
BEGIN:DAYLIGHT
TZOFFSETFROM:-0500
TZOFFSETTO:-0400
TZNAME:EDT
DTSTART:20230312T070000
END:DAYLIGHT
BEGIN:STANDARD
TZOFFSETFROM:-0400
TZOFFSETTO:-0500
TZNAME:EST
DTSTART:20231105T060000
END:STANDARD
BEGIN:DAYLIGHT
TZOFFSETFROM:-0500
TZOFFSETTO:-0400
TZNAME:EDT
DTSTART:20240310T070000
END:DAYLIGHT
BEGIN:STANDARD
TZOFFSETFROM:-0400
TZOFFSETTO:-0500
TZNAME:EST
DTSTART:20241103T060000
END:STANDARD
BEGIN:DAYLIGHT
TZOFFSETFROM:-0500
TZOFFSETTO:-0400
TZNAME:EDT
DTSTART:20250309T070000
END:DAYLIGHT
BEGIN:STANDARD
TZOFFSETFROM:-0400
TZOFFSETTO:-0500
TZNAME:EST
DTSTART:20251102T060000
END:STANDARD
END:VTIMEZONE
BEGIN:VEVENT
DTSTART;TZID=America/New_York:20241207T130000
DTEND;TZID=America/New_York:20241207T160000
DTSTAMP:20260419T121755
CREATED:20241203T033813Z
LAST-MODIFIED:20241203T033813Z
UID:3191-1733576400-1733587200@bindlestiff.org
SUMMARY:Market of Curiosities
DESCRIPTION:Bindlestiff Family Cirkus performing at the Market of Curiosities http://www.marketofcuriosities.com/\nCarlisle Expo Center\, Carlisle PA https://carlisleexpo.com/\nRob Lok\, Dia Seskin and Christina Gelsone will delight and amaze!\nShowtimes 1pm and 3pm.\nFor more information\, visit http://www.marketofcuriosities.com/beentertained
URL:https://bindlestiff.org/event/market-of-curiosities/
LOCATION:Carlisle Expo Center\, 100 K Street\, Carlisle\, PA\, 17013\, United States
CATEGORIES:Circus,Performance
END:VEVENT
BEGIN:VEVENT
DTSTART;TZID=America/New_York:20241207T170000
DTEND;TZID=America/New_York:20241207T200000
DTSTAMP:20260419T121755
CREATED:20241203T034126Z
LAST-MODIFIED:20241203T034126Z
UID:3195-1733590800-1733601600@bindlestiff.org
SUMMARY:Winter Walk
DESCRIPTION:Winter Walk Hudson NY\nFREE events from 5pm – 8pm along Hudson’s Warren Street\nBindllestiff Family Cirkus presents 3 shows on its glorious Flatbed Stage at 3rd and Warren at 5:30 pm\, 6:35 pm\, and 7:40 pm\nFeaturing heart-warming physical comedian Mariko Iwasa; dazzling prop manipulation by Kyle Driggs and tight-wire walking by Logan Kerr of 3am Theatre; Amy Chen performing with  lyrical grace on the aerial hoop\, and vaudeville variety galore by Mr. Bindlestiff himself\, Keith Nelson.
URL:https://bindlestiff.org/event/winter-walk/
LOCATION:Warren Street\, Warren St.\, Hudson\, NY\, United States
END:VEVENT
BEGIN:VEVENT
DTSTART;TZID=America/New_York:20241210T190000
DTEND;TZID=America/New_York:20241210T213000
DTSTAMP:20260419T121755
CREATED:20240828T024619Z
LAST-MODIFIED:20240828T024619Z
UID:3088-1733857200-1733866200@bindlestiff.org
SUMMARY:Open Stage Variety Show
DESCRIPTION:
URL:https://bindlestiff.org/event/open-stage-variety-show-4/
LOCATION:Voorhees Theatre\, 186 Jay Street\, Brooklyn\, NY\, 11201\, United States
END:VEVENT
END:VCALENDAR