BEGIN:VCALENDAR
VERSION:2.0
PRODID:-//Bindlestiff Family Cirkus - ECPv6.15.17.1//NONSGML v1.0//EN
CALSCALE:GREGORIAN
METHOD:PUBLISH
X-ORIGINAL-URL:https://bindlestiff.org
X-WR-CALDESC:Events for Bindlestiff Family Cirkus
REFRESH-INTERVAL;VALUE=DURATION:PT1H
X-Robots-Tag:noindex
X-PUBLISHED-TTL:PT1H
BEGIN:VTIMEZONE
TZID:America/New_York
BEGIN:DAYLIGHT
TZOFFSETFROM:-0500
TZOFFSETTO:-0400
TZNAME:EDT
DTSTART:20240310T070000
END:DAYLIGHT
BEGIN:STANDARD
TZOFFSETFROM:-0400
TZOFFSETTO:-0500
TZNAME:EST
DTSTART:20241103T060000
END:STANDARD
BEGIN:DAYLIGHT
TZOFFSETFROM:-0500
TZOFFSETTO:-0400
TZNAME:EDT
DTSTART:20250309T070000
END:DAYLIGHT
BEGIN:STANDARD
TZOFFSETFROM:-0400
TZOFFSETTO:-0500
TZNAME:EST
DTSTART:20251102T060000
END:STANDARD
BEGIN:DAYLIGHT
TZOFFSETFROM:-0500
TZOFFSETTO:-0400
TZNAME:EDT
DTSTART:20260308T070000
END:DAYLIGHT
BEGIN:STANDARD
TZOFFSETFROM:-0400
TZOFFSETTO:-0500
TZNAME:EST
DTSTART:20261101T060000
END:STANDARD
END:VTIMEZONE
BEGIN:VEVENT
DTSTART;TZID=America/New_York:20250301T193000
DTEND;TZID=America/New_York:20250301T210000
DTSTAMP:20260419T152505
CREATED:20250224T045229Z
LAST-MODIFIED:20250224T045319Z
UID:3235-1740857400-1740862800@bindlestiff.org
SUMMARY:Bindlestiff Family Cirkus
DESCRIPTION:Bindlestiff Family Cirkus visits Richland\, WA with a power trio of Cirkus superstars! Keith Nelson delivers Vaudeville classics like spinning plates and tops; Sideshow thrills like sword swallowing and Gentlemen Juggler novelties like mouthstick balance. Equilibrist Yared Teklu Sheferaw performs breathaking stunts high atop an unsupported ladder\, and juggles an amazing speed. And multi-talented artist Ellie Steiingraeber wiill make heads spin with her dynamic Hula Hoop acts\, mind-bending contortion\, and graceful power on the aerial Lyra.\nFor tickets\, directions\, and more: https://communityconcertstc.org/schedule/2024-2025-schedule.html\n\n\n\nYared Teklu Sheferaw courtesy of artist\nEllie Steingraeber by Albert Watson\nKeith Nelson by Maike Schulz
URL:https://bindlestiff.org/event/bindlestiff-family-cirkus-3/
LOCATION:Richland High School\, 930 Long Ave\, Richland\, WA\, 99352\, United States
END:VEVENT
BEGIN:VEVENT
DTSTART;TZID=America/New_York:20250308T103000
DTEND;TZID=America/New_York:20250308T120000
DTSTAMP:20260419T152505
CREATED:20250122T162356Z
LAST-MODIFIED:20250122T162356Z
UID:3202-1741429800-1741435200@bindlestiff.org
SUMMARY:Bindlestiff Family Cirkus
DESCRIPTION:Step right up’ to the legendary Bindlestiff Family Cirkus show and skills workshop. Learn some new tricks\, and experience dynamic novelty acts in an engaging and participatory way that you don’t find in other types of circus. Sure to be a crowd-pleaser for the whole family. \nFree to attend\, click HERE to rsvp.
URL:https://bindlestiff.org/event/bindlestiff-family-cirkus-2/
LOCATION:Battery Park City\, 6 River Terrace\, New York\, NY\, United States
CATEGORIES:Circus,Performance
END:VEVENT
BEGIN:VEVENT
DTSTART;TZID=America/New_York:20250308T150000
DTEND;TZID=America/New_York:20250308T190000
DTSTAMP:20260419T152505
CREATED:20250308T041815Z
LAST-MODIFIED:20250308T041815Z
UID:3249-1741446000-1741460400@bindlestiff.org
SUMMARY:Stepping Stones Museum for Children 25th Birthday Bash
DESCRIPTION:
URL:https://bindlestiff.org/event/stepping-stones-museum-for-children-25th-birthday-bash/
LOCATION:Stepping Stones Museum for Children\, 303 West Avenue\, Norwalk\, 06850\, United States
END:VEVENT
BEGIN:VEVENT
DTSTART;TZID=America/New_York:20250311T190000
DTEND;TZID=America/New_York:20250311T213000
DTSTAMP:20260419T152505
CREATED:20250122T162729Z
LAST-MODIFIED:20250208T230306Z
UID:3205-1741719600-1741728600@bindlestiff.org
SUMMARY:Open Stage Variety Show
DESCRIPTION:A First Look at NYC’s Finest Emerging Variety Talents\nCircus * Sideshow * Vaudeville * Burlesque * Dance * Music \nCome to the Voorhees Theatre for a night of variety that will include much more than a simple song and dance. Bindlestiff’s Open Stage Variety Show is a non stop variety show experience that may include The Heavy Metal Magician\, Kung Fu juggling\, trained rats\, clown bands\, aerial artists\, wire walkers\, sideshow performers\, living cartoons\, physical comedy\, a cougar contortionist\, emerging super stars\, and more. \n\n\n\n\n\nUpcoming Shows:\nTuesday\, March 11\nTuesday\, April 8\nTuesday\, May 6 \nVoorhees Theatre\nNew York City College of Technology\n186 Jay St.\nBrooklyn\, NY 11201 \n$15 suggested donation\nShowtime: 7:00 pm \nWe are also streaming the show live – check us out on Facebook and YouTube!
URL:https://bindlestiff.org/event/open-stage-variety-show-5/
LOCATION:Voorhees Theatre\, 186 Jay Street\, Brooklyn\, NY\, 11201\, United States
END:VEVENT
BEGIN:VEVENT
DTSTART;TZID=America/New_York:20250316T160000
DTEND;TZID=America/New_York:20250316T180000
DTSTAMP:20260419T152505
CREATED:20250224T045958Z
LAST-MODIFIED:20250224T045958Z
UID:3240-1742140800-1742148000@bindlestiff.org
SUMMARY:Cavalcade of Youth
DESCRIPTION:
URL:https://bindlestiff.org/event/cavalcade-of-youth-2/
LOCATION:Coney Island USA\, 1208 Surf Avenue\, Brooklyn\, 11224\, United States
END:VEVENT
END:VCALENDAR